BEGIN:VCALENDAR
VERSION:2.0
PRODID:-//Plone.org//NONSGML plone.app.event//EN
X-WR-TIMEZONE:Europe/Berlin
BEGIN:VEVENT
SUMMARY:Die Macht des Erzählens und der Sprache
DTSTART;TZID=Europe/Berlin:20251013T200000
DTSTAMP:20260423T073344Z
UID:d10690a969de4bba8cdb1e20328fe583@www.etf.uni-bonn.de
CATEGORIES:ETF Veranstaltung
CREATED:20251009T073327Z
DESCRIPTION:Herzliche Einladung zu einem Gespräch mit Prof. Dr. Dr. h. c.
  Dietrich Korsch zum Thema "Die Macht des Erzählens und der Sprache" am 1
 3.10. um 20:00 Uhr im Kirchenpavillon Bonn. Das Gespräch wird geführt vo
 n PD Dr. Katharina Opalka.
LAST-MODIFIED:20251009T073401Z
URL:https://www.etf.uni-bonn.de/de/die-macht-des-erzaehlens-und-der-sprach
 e
END:VEVENT
BEGIN:VTIMEZONE
TZID:Europe/Berlin
X-LIC-LOCATION:Europe/Berlin
BEGIN:DAYLIGHT
DTSTART:20250330T030000
TZNAME:CEST
TZOFFSETFROM:+0100
TZOFFSETTO:+0200
END:DAYLIGHT
END:VTIMEZONE
END:VCALENDAR
