BEGIN:VCALENDAR
VERSION:2.0
PRODID:-//Plone.org//NONSGML plone.app.event//EN
X-WR-TIMEZONE:Europe/Berlin
BEGIN:VEVENT
SUMMARY:Die Macht der Sprache
DTSTART;TZID=Europe/Berlin:20231130T170000
DTEND;TZID=Europe/Berlin:20231130T210000
DTSTAMP:20260425T134431Z
UID:1276d2a3b7ad49e79bd639880fbdbd77@www.etf.uni-bonn.de
CATEGORIES:ETF Veranstaltung,Systematische Theologie Veranstaltung
CREATED:20231116T085646Z
DESCRIPTION:Oberseminar im Rahmen des SiZ-Projekts zum Thema "Die Macht de
 r Sprache. Zur performativen Bedeutung von Semantisierungen in Sinnbildung
 sprozessen".\n\nDie Texte werden nach Anmeldung an die Teilnehmer*innen ve
 rschickt.
LAST-MODIFIED:20250906T004638Z
URL:https://www.etf.uni-bonn.de/de/veranstaltungen_etf/die-macht-der-sprac
 he
END:VEVENT
BEGIN:VTIMEZONE
TZID:Europe/Berlin
X-LIC-LOCATION:Europe/Berlin
BEGIN:STANDARD
DTSTART:20231029T020000
TZNAME:CET
TZOFFSETFROM:+0200
TZOFFSETTO:+0100
END:STANDARD
END:VTIMEZONE
END:VCALENDAR
