BEGIN:VCALENDAR
VERSION:2.0
PRODID:-//Plone.org//NONSGML plone.app.event//EN
X-WR-TIMEZONE:Europe/Berlin
BEGIN:VEVENT
SUMMARY:Diskutier Ma(h)l
DTSTART;TZID=Europe/Berlin:20230510T190000
DTSTAMP:20260422T184506Z
UID:e8fead697c494486ba12bf252e64f559@www.etf.uni-bonn.de
CATEGORIES:ETF Veranstaltung,Systematische Theologie Veranstaltung,Ethik V
 eranstaltung
CREATED:20230505T113508Z
DESCRIPTION:Herzliche Einladung zu einem Themenabend im Kirchenpavillon\, 
 organisiert vom Lehrstuhl für (Sozial-)Ethik und dem Evangelischen Forum.
  Nach einem Input von Prof. Dr. Matthias Braun zum Thema "Ziviler Ungehors
 am" sind alle Besucher*innen zum Mitdenken und -diskutieren eingeladen. De
 r Eintritt ist frei\, zudem wird es vor Ort einen kleinen Snack geben.
LAST-MODIFIED:20250906T004632Z
URL:https://www.etf.uni-bonn.de/de/veranstaltungen_etf/diskutier-ma-h-l-1
END:VEVENT
BEGIN:VTIMEZONE
TZID:Europe/Berlin
X-LIC-LOCATION:Europe/Berlin
BEGIN:DAYLIGHT
DTSTART:20230326T030000
TZNAME:CEST
TZOFFSETFROM:+0100
TZOFFSETTO:+0200
END:DAYLIGHT
END:VTIMEZONE
END:VCALENDAR
