BEGIN:VCALENDAR
VERSION:2.0
PRODID:-//Plone.org//NONSGML plone.app.event//EN
X-WR-TIMEZONE:Europe/Berlin
BEGIN:VEVENT
SUMMARY:Diskutier Ma(h)l
DTSTART;TZID=Europe/Berlin:20240124T183000
DTSTAMP:20260421T195227Z
UID:b5ae29b30e454538a75d05233262c03f@www.etf.uni-bonn.de
CATEGORIES:ETF Veranstaltung,Systematische Theologie Veranstaltung,Ethik V
 eranstaltung
CREATED:20230505T113508Z
DESCRIPTION:Herzliche Einladung zu einem Themenabend im Kirchenpavillon\, 
 organisiert vom Lehrstuhl für (Sozial-)Ethik und dem Evangelischen Forum.
  \n\nNach einem Input von Prof. Dr. Jacqueline Lorenzen zum Thema "Gibt es
  ein Recht auf Nachhaltigkeit?" sind alle Besucher*innen zum Mitdenken und
  -diskutieren eingeladen. \n\nDer Eintritt ist frei\, zudem wird es vor Or
 t einen kleinen Snack geben.
LAST-MODIFIED:20240409T155609Z
URL:https://www.etf.uni-bonn.de/de/veranstaltungen_etf/diskutier-ma-h-l-4
END:VEVENT
BEGIN:VTIMEZONE
TZID:Europe/Berlin
X-LIC-LOCATION:Europe/Berlin
BEGIN:STANDARD
DTSTART:20231029T020000
TZNAME:CET
TZOFFSETFROM:+0200
TZOFFSETTO:+0100
END:STANDARD
END:VTIMEZONE
END:VCALENDAR
