BEGIN:VCALENDAR
VERSION:2.0
PRODID:-//Plone.org//NONSGML plone.app.event//EN
X-WR-TIMEZONE:Europe/Berlin
BEGIN:VEVENT
SUMMARY:Dorothee Sölle – Die Anfänge
DTSTART;TZID=Europe/Berlin:20230203T133000
DTEND;TZID=Europe/Berlin:20230204T133000
DTSTAMP:20260421T035741Z
UID:b9f87abc88b841f190fb278340c0b067@www.etf.uni-bonn.de
CATEGORIES:ETF Veranstaltung,Ökumenisches Institut Veranstaltung,Systemat
 ische Theologie Veranstaltung
CREATED:20221124T160105Z
DESCRIPTION:Workshop des Ökumenischen Instituts der Universität Bonn an 
 der Universität zu Köln vom 03.02. bis 04.02.2023
LAST-MODIFIED:20250906T004626Z
URL:https://www.etf.uni-bonn.de/de/veranstaltungen_etf/dorothee-soelle-die
 -anfaenge
END:VEVENT
BEGIN:VTIMEZONE
TZID:Europe/Berlin
X-LIC-LOCATION:Europe/Berlin
BEGIN:STANDARD
DTSTART:20221030T020000
TZNAME:CET
TZOFFSETFROM:+0200
TZOFFSETTO:+0100
END:STANDARD
END:VTIMEZONE
END:VCALENDAR
