BEGIN:VCALENDAR
VERSION:2.0
PRODID:-//Plone.org//NONSGML plone.app.event//EN
X-WR-TIMEZONE:Europe/Berlin
BEGIN:VEVENT
SUMMARY:Gastvortrag von Thorsten Dietz
DTSTART;TZID=Europe/Berlin:20241008T140000
DTEND;TZID=Europe/Berlin:20241008T160000
DTSTAMP:20260424T072155Z
UID:d1cdb40712d84620ad832a918b4f3e6c@www.etf.uni-bonn.de
CATEGORIES:ETF Veranstaltung
CREATED:20241001T080311Z
DESCRIPTION:Im Rahmen der Studienwoche an der Evangelisch-Theologischen Fa
 kultät hält Thorsten Dietz einen Vortrag zu dem Thema "Podcasts\, Social
  Media usw.: Wie können wir durch digitale Medien von Gott sprechen? Chan
 cen und Herausforderungen".
LAST-MODIFIED:20241001T080348Z
URL:https://www.etf.uni-bonn.de/de/veranstaltungen_etf/gastvortrag-von-tho
 rsten-dietz
END:VEVENT
BEGIN:VTIMEZONE
TZID:Europe/Berlin
X-LIC-LOCATION:Europe/Berlin
BEGIN:DAYLIGHT
DTSTART:20240331T030000
TZNAME:CEST
TZOFFSETFROM:+0100
TZOFFSETTO:+0200
END:DAYLIGHT
END:VTIMEZONE
END:VCALENDAR
