BEGIN:VCALENDAR
VERSION:2.0
PRODID:-//Plone.org//NONSGML plone.app.event//EN
X-WR-TIMEZONE:Europe/Berlin
BEGIN:VEVENT
SUMMARY:Gemeinschaft – Gemeinwohl – Gemeinsinn
DTSTART;TZID=Europe/Berlin:20231117T140000
DTEND;TZID=Europe/Berlin:20231117T180000
DTSTAMP:20260420T173041Z
UID:9dea1ed74545479e85d006d1370be30d@www.etf.uni-bonn.de
CATEGORIES:ETF Veranstaltung,Systematische Theologie Veranstaltung
CREATED:20231102T100348Z
DESCRIPTION:Arbeitsworkshop des Projekts "Semantisierung in Zukunftsdiskur
 sen"\n\nGemeinschaftssemantiken fungieren häufig als Kampfbegriffe\, sie 
 markieren Bruchlinien und schließen die eigenen Reihen – und das sowohl
  in der in Praxis als auch der Theorie. Dabei wird aus dem Gemeinschaftsko
 nzept zugleich ein bestimmtes Gemeinwohl abgeleitet\, das wiederum mit ein
 em (imaginierten) Gemeinsinn unterlegt ist. Die Verklammerung dieser drei 
 Konzepte ist häufig implizit\, bedarf aber einer klärenden Sortierung\, 
 besonders für die Debatte in sich immer stärker ausdifferenzierenden\, p
 luralistischen Gesellschaften.\n\nDas Programm finden Sie als PDF-Datei zu
 m Download.
LAST-MODIFIED:20231102T163136Z
URL:https://www.etf.uni-bonn.de/de/veranstaltungen_etf/gemeinschaft-gemein
 wohl-gemeinsinn
END:VEVENT
BEGIN:VTIMEZONE
TZID:Europe/Berlin
X-LIC-LOCATION:Europe/Berlin
BEGIN:STANDARD
DTSTART:20231029T020000
TZNAME:CET
TZOFFSETFROM:+0200
TZOFFSETTO:+0100
END:STANDARD
END:VTIMEZONE
END:VCALENDAR
