BEGIN:VCALENDAR
VERSION:2.0
PRODID:-//Plone.org//NONSGML plone.app.event//EN
X-WR-TIMEZONE:Europe/Berlin
BEGIN:VEVENT
SUMMARY:Semestereröffnungsgottesdienste
DTSTART;TZID=Europe/Berlin:20230409T110000
DTEND;TZID=Europe/Berlin:20230409T120000
DTSTAMP:20260424T045524Z
UID:189901f7c4a1402aaafd902d94a1ac43@www.etf.uni-bonn.de
CATEGORIES:ETF Veranstaltung,Gottesdienst
CREATED:20230331T090238Z
DESCRIPTION:An Karfreitag findet bereits ein Gottesdienst von Prof. Dr. Eb
 erhard Hauschildt statt zum Thema: „Das Ebenbild des unsichtbaren Gottes
 “ (Kol 1\, 15a). Am Sonntag folgt dann der Eröffnungsgottesdienst des S
 ommersemesters 2023\, geleitet von Prof.‘n Dr. Cornelia Richter zum Them
 a: „Licht – endlich Licht!“ (1. Kor. 15\, 1-11). Beide Gottesdienste
  beginnen um 11 Uhr.
LAST-MODIFIED:20250906T004630Z
URL:https://www.etf.uni-bonn.de/de/veranstaltungen_etf/semestereroeffnungs
 gottesdienst-1
END:VEVENT
BEGIN:VTIMEZONE
TZID:Europe/Berlin
X-LIC-LOCATION:Europe/Berlin
BEGIN:DAYLIGHT
DTSTART:20230326T030000
TZNAME:CEST
TZOFFSETFROM:+0100
TZOFFSETTO:+0200
END:DAYLIGHT
END:VTIMEZONE
END:VCALENDAR
