BEGIN:VCALENDAR
VERSION:2.0
PRODID:-//Plone.org//NONSGML plone.app.event//EN
X-WR-TIMEZONE:Europe/Berlin
BEGIN:VEVENT
SUMMARY:The Future is Now
DTSTART;TZID=Europe/Berlin:20221118T143000
DTSTAMP:20260419T220043Z
UID:42402c7c3f9e4a0ba78777b392fdfd09@www.etf.uni-bonn.de
CATEGORIES:ETF Veranstaltung,Systematische Theologie Veranstaltung
CREATED:20220907T101736Z
DESCRIPTION:Eine bildungstheoretisch-anthropologische Hermeneutik von Zuku
 nftserwartungen. Tagung des interdisziplinären Projekts "Semantisierung i
 n Zukunftsdiskursen" im Rahmen von TRA 4 der Universität Bonn.
LAST-MODIFIED:20250906T004625Z
URL:https://www.etf.uni-bonn.de/de/veranstaltungen_etf/the-future-is-now
END:VEVENT
BEGIN:VTIMEZONE
TZID:Europe/Berlin
X-LIC-LOCATION:Europe/Berlin
BEGIN:STANDARD
DTSTART:20221030T020000
TZNAME:CET
TZOFFSETFROM:+0200
TZOFFSETTO:+0100
END:STANDARD
END:VTIMEZONE
END:VCALENDAR
