BEGIN:VCALENDAR
VERSION:2.0
PRODID:-//Plone.org//NONSGML plone.app.event//EN
X-WR-TIMEZONE:Europe/Berlin
BEGIN:VEVENT
SUMMARY:Theoball
DTSTART;TZID=Europe/Berlin:20241012T193000
DTSTAMP:20260419T205644Z
UID:29a80d47f544410bbfb4c28be1f1cb07@www.etf.uni-bonn.de
CATEGORIES:ETF Veranstaltung
CREATED:20240918T072107Z
DESCRIPTION:Die Fachschaft der Evangelisch-Theologischen Fakultät lädt h
 erzlich zum diesjährigen Theoball am 12.10.2024 ein. DJ JNEX sorgt für d
 ie richtige Stimmung zum tanzen und Feiern.
LAST-MODIFIED:20250906T004643Z
URL:https://www.etf.uni-bonn.de/de/veranstaltungen_etf/theoball-1
END:VEVENT
BEGIN:VTIMEZONE
TZID:Europe/Berlin
X-LIC-LOCATION:Europe/Berlin
BEGIN:DAYLIGHT
DTSTART:20240331T030000
TZNAME:CEST
TZOFFSETFROM:+0100
TZOFFSETTO:+0200
END:DAYLIGHT
END:VTIMEZONE
END:VCALENDAR
