BEGIN:VCALENDAR
VERSION:2.0
PRODID:-//Plone.org//NONSGML plone.app.event//EN
X-WR-TIMEZONE:Europe/Berlin
BEGIN:VEVENT
SUMMARY:Wochen der Studienorientierung
DTSTART;TZID=Europe/Berlin:20240124T090000
DTEND;TZID=Europe/Berlin:20240124T140000
DTSTAMP:20260419T225149Z
UID:09d2d9de3e99489395ea38b7a0119be1@www.etf.uni-bonn.de
CATEGORIES:ETF Veranstaltung
CREATED:20231130T100658Z
DESCRIPTION:Auch in diesem Jahr finden wieder die landesweiten Wochen der 
 Studienorientierung statt. Auch die Evangelisch-Theologische Fakultät bet
 eiligt sich mit einem abwechslungsreichen Programm\, um Schüler*innen die
  Möglichkeit zu bieten unsere Studiengänge kennenzulernen und Einblicke 
 in das Studium der Evangelischen Theologie zu bekommen. \n\nWir laden alle
  interessierten Schüler*innen ganz herzlich am 24. Januar zu nachfolgende
 m Programm ein:\n\n09:00-10:00 Uhr Theologie studieren: Studiengänge und 
 Fächer\n10:00-11:30 Uhr Schnupperseminar: „Schöpfung und Klimagerechti
 gkeit“ mit Prof. Matthias Braun\n11:30-13:00 Uhr Gemeinsames Mittagessen
 \n13:00-14:00 Uhr Theologie studieren und dann?!\n\nTreffpunkt ist das Foy
 er der Rabinstraße 8. Um vorherige Anmeldung bis zum 15. Dezember 2023 an
  jerath@uni-bonn.de wird gebeten.
LAST-MODIFIED:20250906T004639Z
URL:https://www.etf.uni-bonn.de/de/veranstaltungen_etf/wochen-der-studieno
 rientierung-1
END:VEVENT
BEGIN:VTIMEZONE
TZID:Europe/Berlin
X-LIC-LOCATION:Europe/Berlin
BEGIN:STANDARD
DTSTART:20231029T020000
TZNAME:CET
TZOFFSETFROM:+0200
TZOFFSETTO:+0100
END:STANDARD
END:VTIMEZONE
END:VCALENDAR
