BEGIN:VCALENDAR
VERSION:2.0
PRODID:-//Plone.org//NONSGML plone.app.event//EN
X-WR-TIMEZONE:Europe/Berlin
BEGIN:VEVENT
SUMMARY:God and Gospel Between Nature and Empire
DTSTART;TZID=Europe/Berlin:20240703T150000
DTEND;TZID=Europe/Berlin:20240703T163000
DTSTAMP:20260424T072507Z
UID:84ec62a4081d4b67b6736e2f61420f5c@www.etf.uni-bonn.de
CATEGORIES:ETF Events ENG
CREATED:20240613T082204Z
DESCRIPTION:Lecture by Prof. Dr. Sheri Prud'homme as part of the G_NET Col
 loquium on Intercultural Theology and Ecumenical Studies.
LAST-MODIFIED:20250906T003306Z
URL:https://www.etf.uni-bonn.de/en/events_etf/god-and-gospel-between-natur
 e-and-empire
END:VEVENT
BEGIN:VTIMEZONE
TZID:Europe/Berlin
X-LIC-LOCATION:Europe/Berlin
BEGIN:DAYLIGHT
DTSTART:20240331T030000
TZNAME:CEST
TZOFFSETFROM:+0100
TZOFFSETTO:+0200
END:DAYLIGHT
END:VTIMEZONE
END:VCALENDAR
